BEGIN:VCALENDAR
VERSION:2.0
PRODID:-//Groupe Sacré Coeur La Salle - ECPv6.15.20//NONSGML v1.0//EN
CALSCALE:GREGORIAN
METHOD:PUBLISH
X-WR-CALNAME:Groupe Sacré Coeur La Salle
X-ORIGINAL-URL:https://gscls.com
X-WR-CALDESC:Évènements pour Groupe Sacré Coeur La Salle
REFRESH-INTERVAL;VALUE=DURATION:PT1H
X-Robots-Tag:noindex
X-PUBLISHED-TTL:PT1H
BEGIN:VTIMEZONE
TZID:Europe/Paris
BEGIN:DAYLIGHT
TZOFFSETFROM:+0100
TZOFFSETTO:+0200
TZNAME:CEST
DTSTART:20250330T010000
END:DAYLIGHT
BEGIN:STANDARD
TZOFFSETFROM:+0200
TZOFFSETTO:+0100
TZNAME:CET
DTSTART:20251026T010000
END:STANDARD
BEGIN:DAYLIGHT
TZOFFSETFROM:+0100
TZOFFSETTO:+0200
TZNAME:CEST
DTSTART:20260329T010000
END:DAYLIGHT
BEGIN:STANDARD
TZOFFSETFROM:+0200
TZOFFSETTO:+0100
TZNAME:CET
DTSTART:20261025T010000
END:STANDARD
BEGIN:DAYLIGHT
TZOFFSETFROM:+0100
TZOFFSETTO:+0200
TZNAME:CEST
DTSTART:20270328T010000
END:DAYLIGHT
BEGIN:STANDARD
TZOFFSETFROM:+0200
TZOFFSETTO:+0100
TZNAME:CET
DTSTART:20271031T010000
END:STANDARD
END:VTIMEZONE
BEGIN:VEVENT
DTSTART;TZID=Europe/Paris:20260124T100000
DTEND;TZID=Europe/Paris:20260124T170000
DTSTAMP:20260425T153447
CREATED:20231004T114955Z
LAST-MODIFIED:20251022T120828Z
UID:307112-1769248800-1769274000@gscls.com
SUMMARY:Studyrama Angers
DESCRIPTION:Venez découvrir nos formations du Bac+2 au Bac+5 durant le salon Studyrama au Parc des Expositions d’Angers. \nPlus d’informations sur : www.studyrama.com
URL:https://gscls.com/evenement/studyrama/
LOCATION:Parc des Expositions d’Angers\, Route de Paris\, Angers\, 49000\, France
CATEGORIES:Orientation,Salon
ATTACH;FMTTYPE=image/png:https://gscls.com/wp-content/uploads/2023/10/Studyrama-Laval-scaled.png
END:VEVENT
END:VCALENDAR